BEGIN:VCALENDAR
VERSION:2.0
PRODID:-//hacksw/handcal//NONSGML v1.0//EN
CALSCALE:GREGORIAN
BEGIN:VEVENT
UID:69e6dde04a6c3
DTSTAMP:20260421T021600Z
DESCRIPTION:Saturday-Sunday\, December 9-10\, 2023\, are Reading Days to prepare for Final Exams. View the full academic calendar.&nbsp\;
SUMMARY:Reading Days
DTSTART:20231209
DTEND:20231209
END:VEVENT
END:VCALENDAR
