BEGIN:VCALENDAR
VERSION:2.0
PRODID:-//hacksw/handcal//NONSGML v1.0//EN
CALSCALE:GREGORIAN
BEGIN:VEVENT
UID:69e547dcf398f
DTSTAMP:20260419T212340Z
DESCRIPTION:Wednesday\, May 1\, 2024 and Saturday-Sunday\, May 4-5\, 2024\, are Reading Days to prepare for Final Exams. View the full academic calendar.&nbsp\;
SUMMARY:Reading Days
DTSTART:20240501
DTEND:20240501
END:VEVENT
END:VCALENDAR
