BEGIN:VCALENDAR
VERSION:2.0
PRODID:-//hacksw/handcal//NONSGML v1.0//EN
CALSCALE:GREGORIAN
BEGIN:VEVENT
UID:69e4dd6ab0b83
DTSTAMP:20260419T134930Z
DESCRIPTION:9/1 @ 12:15PM Ham-Wil 233 9/6 @ 12:15PM Ham-Wil 304 9/14 @ 12:15PM Ham-Wil 304 9/14 @ 7:00PM (Virtual) REGISTER:&nbsp\;https://owu.joinhandshake.com/events&nbsp\;Career Connection is inviting you to attend an Information Session for the Real Life 101 program - a program for Senior students dedicated to easing the transition from Ohio Wesleyan to life after college! Recruitment for this program starts NOW so we can get you paired with an Alumni Mentor in the Spring\; and the bulk of the program will occur in Spring Semester. Through this exciting initiative\, you will participate in 1:1 meetings with your Alumni Mentor\, educational workshops\, and large-scale networking events. You will gain essential skills in how to network/work a room\, balance finances\, search for jobs\, develop coping strategies\, and succeed as an emerging professional. Leigh Mascolino\, Director of Career Connection\, and an Alumni Mentor will provide guidance and support to you throughout the program! Attendance at an information session is MANDATORY to participate in this program. This program is targeted to students graduating in May 2023 or Dec 2022/Dec 2023. We hope you can join us!!
OWU Sponsoring Organization/Office: Ohio Wesleyan UniversityContact: Leigh Mascolino at&nbsp\;lemascolin@owu.edu
SUMMARY:Real Life 101 Information Session (Senior Mentoring Program)
DTSTART:20220901T161500Z
DTEND:20220901T170000Z
END:VEVENT
END:VCALENDAR
