BEGIN:VCALENDAR
VERSION:2.0
PRODID:-//hacksw/handcal//NONSGML v1.0//EN
CALSCALE:GREGORIAN
BEGIN:VEVENT
UID:69eb9091be954
DTSTAMP:20260424T154729Z
DESCRIPTION:Join us for the 1st ever Red and Black Alumni meet! &nbsp\;This will be an inter-squad meet where alumni can compete among our current team members and also take part in an alumni-only mile. &nbsp\;The real intent is to have fun and connect our current teams with those who paved the way before them. &nbsp\;
This will be an event for the whole family\, including kids races. We hope to have great participation among alums\, and whether you want to compete or come to support\, we look forward to seeing you there!
Event Schedule:
2:45 p.m.&nbsp\;&ndash\;&nbsp\;Event check in
3:00 p.m. &ndash\; Field Events (Combined Genders)
Long Jump
Weight Throw/Shot Put to follow
Long Jump
Pole Vault
4:15 p.m. &ndash\; Running Events (Women then Men)60 Hurdles
1200m
60 Dash
Alumni Mile
500 Run
Kids 60 Dash (ages 10 and under)
300 Dash
Kids 200 Dash (ages 10 and under)
Mixed 4x400 (Current athletes and alumni)
Post MeetAlumni and Team Post-Meet Food &amp\; SocialSenior &amp\; Alumni recognition
Register HERE
SUMMARY:Red and Black Alumni Track and Field and Cross Country Meet
DTSTART:20250111T200000Z
DTEND:20250111T220000Z
END:VEVENT
END:VCALENDAR
