BEGIN:VCALENDAR
VERSION:2.0
PRODID:-//hacksw/handcal//NONSGML v1.0//EN
CALSCALE:GREGORIAN
BEGIN:VEVENT
UID:69e7e33ee51ae
DTSTAMP:20260421T205110Z
DESCRIPTION:Counseling Services invites you to take a break and indulge in a soothing\, free chair massage on Wednesday\, 11/6\, in the Atrium. Whether you need a chance to relax\, unwind\, or simply want to treat yourself\, this event is perfect for you. No need to schedule in advance\, simply stop by and sign up at our table in the Atrium from 11am-1pm. We can&apos\;t wait to see you there!
OWU Sponsoring Organization/Office: Counseling ServicesContact: Vicki Blommel at&nbsp\;vsblomme@owu.edu
SUMMARY:Relax and Recharge with free Chair Massage 
DTSTART:20241106T160000Z
DTEND:20241106T180000Z
END:VEVENT
END:VCALENDAR
