BEGIN:VCALENDAR
VERSION:2.0
PRODID:-//hacksw/handcal//NONSGML v1.0//EN
CALSCALE:GREGORIAN
BEGIN:VEVENT
UID:69eb4fc791d96
DTSTAMP:20260424T111103Z
DESCRIPTION:Are you interested in becoming a Resident Assistant or SLU Moderator? Do you have questions about the benefits of working with Residential Life? Are you looking for an opportunity to connect with your peers as a student leader? If you answered yes to any of these questions\, then you would benefit from coming to tonight's RA/Mod hiring information session hosted by Residential Life on the Smith Stairs at 8:00 pm. If you can't make it tonight\, then we hope to see you at any of these future information sessions: Wed. Nov. 8th in the Crider Loung (HWCC 2nd Floor) at Noon Wed. Nov. 2nd in the HWCC atrium at 11:00 am To access the application\, read about the job duties of RAs/Mods\, and see more information about the benefits of joining team ResLife\, please visit&nbsp\;reslife.owu.edu&nbsp\;or email&nbsp\;reslife@owu.edu.
OWU Sponsoring Organization/Office: Residential LifeContact: Mack Wade at&nbsp\;reslife@owu.edu
SUMMARY:ResLife Information Session
DTSTART:20231019T000000Z
DTEND:20231019T010000Z
END:VEVENT
END:VCALENDAR
