BEGIN:VCALENDAR
VERSION:2.0
PRODID:-//hacksw/handcal//NONSGML v1.0//EN
CALSCALE:GREGORIAN
BEGIN:VEVENT
UID:69e9c03481031
DTSTAMP:20260423T064612Z
DESCRIPTION:(Pre-K to 3rd Grade)
Come enjoy our art themed stories followed by coloring time. We will be reading Art&apos\;s Supplies\, The Day the Crayons Quit\, and Mixed: A Colorful Story.
SUMMARY:Ross Art Museum: Art Story Time and Coloring
DTSTART:20241124T190000Z
DTEND:20241124T210000Z
END:VEVENT
END:VCALENDAR
