BEGIN:VCALENDAR
VERSION:2.0
PRODID:-//hacksw/handcal//NONSGML v1.0//EN
CALSCALE:GREGORIAN
BEGIN:VEVENT
UID:69e9d52b6f2f1
DTSTAMP:20260423T081539Z
DESCRIPTION:The Ohio Art League's "2024 Fall Juried Exhibition\," at Ohio Wesleyan's Richard M. Ross Art Museum\, 60 S. Sandusky St.\, Delaware. The juried show features 108 pieces from 90 accomplished artists from across the state. As part of the exhibition\, the museum will hold a talk by exhibition juror Philip Sugden at 1 p.m. Sept. 1. With nearly 400 members\, the Columbus-based Ohio Art League (OAL) seeks to empower artists by fostering a vibrant artistic community and providing diverse opportunities to showcase their work\, connect with fellow creatives\, and expand their knowledge and skills. Learn more at oal.org. During the academic year\, the Ross is open Tuesday\, Wednesday\, and Friday from 10 a.m. to 5 p.m.\; Thursday from 10 a.m. to 9 p.m.\; and Sunday from 1 p.m. to 5 p.m. The museum is handicap-accessible and admission is always free. Call (740) 368-3606 or visit owu.edu/ross or www.facebook.com/RossArtMuseum for more information.
SUMMARY:Ross Art Museum Exhibition Juror Talk
DTSTART:20240901T170000Z
DTEND:20240901T180000Z
END:VEVENT
END:VCALENDAR
