BEGIN:VCALENDAR
VERSION:2.0
PRODID:-//hacksw/handcal//NONSGML v1.0//EN
CALSCALE:GREGORIAN
BEGIN:VEVENT
UID:69ec25ee92440
DTSTAMP:20260425T022446Z
DESCRIPTION:(Pre-K through 3rd Grade)
Learn who Martin Luther King Jr. was and why he was important. After the reading\, children will be invited to complete a related coloring activity.
SUMMARY:Ross Art Museum: MLK Day Celebration
DTSTART:20250119T190000Z
DTEND:20250119T200000Z
END:VEVENT
END:VCALENDAR
