BEGIN:VCALENDAR
VERSION:2.0
PRODID:-//hacksw/handcal//NONSGML v1.0//EN
CALSCALE:GREGORIAN
BEGIN:VEVENT
UID:69e91f383fc0e
DTSTAMP:20260422T191920Z
DESCRIPTION:(Pre-K to 3rd Grade)
We will be reading the Fry Bread story book\, and doing a native food themed coloring activity.
SUMMARY:Ross Art Museum: Native American Story Time and Coloring
DTSTART:20241117T190000Z
DTEND:20241117T210000Z
END:VEVENT
END:VCALENDAR
