BEGIN:VCALENDAR
VERSION:2.0
PRODID:-//hacksw/handcal//NONSGML v1.0//EN
CALSCALE:GREGORIAN
BEGIN:VEVENT
UID:69ebcb055cf34
DTSTAMP:20260424T195653Z
DESCRIPTION:&nbsp\;

Join us Thursday\, Jan. 16\, from 5-8 p.m. for Caribbean Transformers: Becoming and Being in the New World.
Come out of the cold! We&apos\;ll have Caribbean-inspired food\, music\, and fun! Jamaican-born painter Alicia Brown examines the complex cultural forces faced by Caribbean natives living away from their homelands.
With a nod to iconic freedom fighters like Nanny of the Maroons\, Brown highlights ideas of camouflage\, transformation\, and the reconstruction of identity. The work draws parallels to the resourcefulness of women in her own family and to the cultural practices preserved across generations and geographies.
The exhibition will be on view from Jan. 14-March 30.

SUMMARY:Ross Art Museum Opening Reception: Caribbean Transformers!
DTSTART:20250116T220000Z
DTEND:20250117T010000Z
END:VEVENT
END:VCALENDAR
