BEGIN:VCALENDAR
VERSION:2.0
PRODID:-//hacksw/handcal//NONSGML v1.0//EN
CALSCALE:GREGORIAN
BEGIN:VEVENT
UID:69e84a5a5841b
DTSTAMP:20260422T041106Z
DESCRIPTION:(All Ages)
Turn your doodles into stickers with our magic sticker making machine! Unleash your imagination at the museum and draw up some stickers to take home.
SUMMARY:Ross Art Museum: Sticker Making
DTSTART:20241110T190000Z
DTEND:20241110T210000Z
END:VEVENT
END:VCALENDAR
