BEGIN:VCALENDAR
VERSION:2.0
PRODID:-//hacksw/handcal//NONSGML v1.0//EN
CALSCALE:GREGORIAN
BEGIN:VEVENT
UID:69eca6833bbfd
DTSTAMP:20260425T113323Z
DESCRIPTION:(Pre-K through 3rd Grade)
Children will enjoy an art-themed story and then make art of their own to take home.
SUMMARY:Ross Art Museum: Words and Pictures!
DTSTART:20250126T190000Z
DTEND:20250126T200000Z
END:VEVENT
END:VCALENDAR
