BEGIN:VCALENDAR
VERSION:2.0
PRODID:-//hacksw/handcal//NONSGML v1.0//EN
CALSCALE:GREGORIAN
BEGIN:VEVENT
UID:69e7bafdeafc3
DTSTAMP:20260421T175925Z
DESCRIPTION:Join us in Merrick 301 from 12:00-1:00pm on Monday\, November 4th to celebrate Latine culture and learn how to Salsa with OWU alumni Jackie Courchene! . Appetizers and desserts will be provided.
OWU Sponsoring Organization/Office: CDO\, OMSA\, VIVA\, LA CASAContact: Andrew Inamdar at&nbsp\;cdo@owu.edu
SUMMARY:Salsa Lesson
DTSTART:20241104T170000Z
DTEND:20241104T180000Z
END:VEVENT
END:VCALENDAR
