BEGIN:VCALENDAR
VERSION:2.0
PRODID:-//hacksw/handcal//NONSGML v1.0//EN
CALSCALE:GREGORIAN
BEGIN:VEVENT
UID:69e77e8b0dd18
DTSTAMP:20260421T134131Z
DESCRIPTION:Celebrate the holidays with Ohio Wesleyan! Join President Matt vandenBerg and OWU alumni\, family\, and friends to enjoy the spirit of the season at the San Francisco Holiday Party!
Hosted by Jack Luikart '71 and Lorry Haycock Luikart '73
Register Here!
SUMMARY:San Francisco Holiday Party
DTSTART:20231209T233000Z
DTEND:20231210T013000Z
END:VEVENT
END:VCALENDAR
