BEGIN:VCALENDAR
VERSION:2.0
PRODID:-//hacksw/handcal//NONSGML v1.0//EN
CALSCALE:GREGORIAN
BEGIN:VEVENT
UID:69e606a01def6
DTSTAMP:20260420T105736Z
DESCRIPTION:7:30 p.m. Sept. 21: "Scenes!" featuring performances staged by the Theatre Directing Class on the Main Stage of Chappelear Drama Center\, 45 Rowland Ave.\, Delaware. This 30-minute event features new students as actors and may contain adult themes and language. "Scenes!" is presented by the OWU chapter of the Theta Alpha Phi National Theatre Honors Fraternity. Admission is free. For more information\, visit owu.edu/PerformingArts.&nbsp\;
SUMMARY:&quot\;Scenes!&quot\;: A Directing Class Presentation
DTSTART:20241018T220000Z
DTEND:20241019T000000Z
END:VEVENT
END:VCALENDAR
