BEGIN:VCALENDAR
VERSION:2.0
PRODID:-//hacksw/handcal//NONSGML v1.0//EN
CALSCALE:GREGORIAN
BEGIN:VEVENT
UID:69e7399ed5ffe
DTSTAMP:20260421T084726Z
DESCRIPTION:
SUMMARY:Second Module Begins
DTSTART:20251013
DTEND:20251013
END:VEVENT
END:VCALENDAR
