BEGIN:VCALENDAR
VERSION:2.0
PRODID:-//hacksw/handcal//NONSGML v1.0//EN
CALSCALE:GREGORIAN
BEGIN:VEVENT
UID:69ea7d346aa23
DTSTAMP:20260423T201236Z
DESCRIPTION:Ohio Wesleyan senior recital featuring Abigail Bennett\, voice\, and Morgan Vaughn\, piano/organ\, in Gray Chapel inside University Hall\, 61 S. Sandusky St.\, Delaware. Admission is free. For more information\, visit owu.edu/PerformingArts.
SUMMARY:Senior Recital: Abigail Bennett '26\, voice\, and Morgan Vaughn '26\, piano/organ
DTSTART:20260426T230000Z
DTEND:20260427T010000Z
END:VEVENT
END:VCALENDAR
