BEGIN:VCALENDAR
VERSION:2.0
PRODID:-//hacksw/handcal//NONSGML v1.0//EN
CALSCALE:GREGORIAN
BEGIN:VEVENT
UID:69ea798c624d2
DTSTAMP:20260423T195700Z
DESCRIPTION:OWU senior student recital\, featuring Hannah Barenthin\, clarinet\, in Jemison Auditorium inside Sanborn Hall\, 23 Elizabeth St.\, Delaware. Admission is free. For more information\, visit owu.edu/PerformingArts.
SUMMARY:Senior Recital: Hannah Barenthin
DTSTART:20231029T190000Z
DTEND:20231029T200000Z
END:VEVENT
END:VCALENDAR
