BEGIN:VCALENDAR
VERSION:2.0
PRODID:-//hacksw/handcal//NONSGML v1.0//EN
CALSCALE:GREGORIAN
BEGIN:VEVENT
UID:69e9d511cc19a
DTSTAMP:20260423T081513Z
DESCRIPTION:OWU senior student recital\, featuring Logan Page\, trumpet\, in Jemison Auditorium inside Sanborn Hall\, 23 Elizabeth St.\, Delaware. Admission is free. For more information\, visit owu.edu/PerformingArts.
SUMMARY:Senior Recital: Logan Page
DTSTART:20231105T200000Z
DTEND:20231105T210000Z
END:VEVENT
END:VCALENDAR
