BEGIN:VCALENDAR
VERSION:2.0
PRODID:-//hacksw/handcal//NONSGML v1.0//EN
CALSCALE:GREGORIAN
BEGIN:VEVENT
UID:69ea9d4372bac
DTSTAMP:20260423T222923Z
DESCRIPTION:Seniors\, we are excited to welcome you back to campus! Join us on Wednesday\, August 21st\, at 6 p.m. on the Hickson Patio outside Bradford Milligan Hall. Enjoy appetizers\, a brief speech from President Matt vandenBerg\, and a champagne toast to kick off your senior year!
https://drive.google.com/file/d/1ZGIjNK0GXosbgC13MA4aB2SzzxUWYf4C/view?usp=sharing
OWU Sponsoring Organization/Office: University AdvancementContact: Mallorie Watts at&nbsp\;mmwatts@owu.edu
SUMMARY:Senior Welcome Back Reception
DTSTART:20240821T220000Z
DTEND:20240821T230000Z
END:VEVENT
END:VCALENDAR
