BEGIN:VCALENDAR
VERSION:2.0
PRODID:-//hacksw/handcal//NONSGML v1.0//EN
CALSCALE:GREGORIAN
BEGIN:VEVENT
UID:69e998218f641
DTSTAMP:20260423T035513Z
DESCRIPTION:Discuss current events with food and Sigma Gamma Rho Sorority at 7:22PM at the Milligan Hub in Stuyvesant Hall!
OWU Sponsoring Organization/Office: Student Involvement Office Contact: involveu@owu.edu
SUMMARY:Sigma Gamma Rho Sorority Discussion 
DTSTART:20231109T002200Z
DTEND:20231109T020000Z
END:VEVENT
END:VCALENDAR
