BEGIN:VCALENDAR
VERSION:2.0
PRODID:-//hacksw/handcal//NONSGML v1.0//EN
CALSCALE:GREGORIAN
BEGIN:VEVENT
UID:69eafdfd161f5
DTSTAMP:20260424T052205Z
DESCRIPTION:Join us at the Ohio Wesleyan University Benes Rooms&nbsp\;for a special event dedicated to raising awareness for breast cancer. This in-person brunch is a chance for sisters from all walks of life to come together and show support for those affected by this disease.&nbsp\;This event is open to all\, so kindly click on this link to purchase a ticket&nbsp\;&nbsp\;SU Breast Cancer Awareness Brunch.&nbsp\;"Get ready to brunch\, bond\, and raise awareness for breast cancer as Sisters United comes together to support and empower each other"
OWU Sponsoring Organization/Office: Sisters UnitedContact: Jemimah Chukwuemeka at&nbsp\;sistersunited@owu.edu
SUMMARY:Sisters United Breast Cancer Awareness Brunch
DTSTART:20231022T160000Z
DTEND:20231022T190000Z
END:VEVENT
END:VCALENDAR
