BEGIN:VCALENDAR
VERSION:2.0
PRODID:-//hacksw/handcal//NONSGML v1.0//EN
CALSCALE:GREGORIAN
BEGIN:VEVENT
UID:69ea4c5a6f12d
DTSTAMP:20260423T164410Z
DESCRIPTION:CPB presents Sleigh on the JAY! Join us on December 6th from 11:30 am to 1:30 pm on the JAYwalk for a festive break before finals! We&apos\;ll have reindeer petting\, hot chocolate\, coffee\, and delicious bundt cakes&hellip\; plus giveaways in the Atrium! Can&apos\;t wait to see you there! :)
OWU Sponsoring Organization/Office: Campus Programming BoardContact: Oyindoubra Akika at&nbsp\;cpb@owu.edu
SUMMARY:Sleigh on the JAY
DTSTART:20241206T163000Z
DTEND:20241206T183000Z
END:VEVENT
END:VCALENDAR
