BEGIN:VCALENDAR
VERSION:2.0
PRODID:-//hacksw/handcal//NONSGML v1.0//EN
CALSCALE:GREGORIAN
BEGIN:VEVENT
UID:69ed109148959
DTSTAMP:20260425T190553Z
DESCRIPTION:Join the SLU Community as they kickoff this years recruitment season! Each of OWU's 8 unique Small Living Units (SLUs) will be stationed in the connector lounge ready to meet you and give you all of the information you could need to learn how to be a SLU member in Fall 2025. Stop by and take a chance on finding your dream community of passionate\, like-minded individuals. We can't wait to see you there! When: Monday\, Feb 3rd 7:00 - 9:00 pm Where: Smith Hall 2nd Floor Connector Lounge
OWU Sponsoring Organization/Office: Residential LifeContact: Mack Wade at&nbsp\;reslife@owu.edu
SUMMARY:SLU Social
DTSTART:20250204T000000Z
DTEND:20250204T020000Z
END:VEVENT
END:VCALENDAR
