BEGIN:VCALENDAR
VERSION:2.0
PRODID:-//hacksw/handcal//NONSGML v1.0//EN
CALSCALE:GREGORIAN
BEGIN:VEVENT
UID:69e877c56e874
DTSTAMP:20260422T072453Z
DESCRIPTION:Come catch up with the SOAN/SJ Students and Faculty on Sept. 18 at noon\, Elliott Hall\, 4th floor lounge at the first SOAN/SJ Social of the 2024-2025 academic year!&nbsp\; Lunch will be provided.&nbsp\; All are welcome!
OWU Sponsoring Organization/Office: SOAN DeptContact: Deb Lovell at&nbsp\;pg@owu.edu
SUMMARY:SOAN/SJ Social
DTSTART:20240918T160000Z
DTEND:20240918T170000Z
END:VEVENT
END:VCALENDAR
