BEGIN:VCALENDAR
VERSION:2.0
PRODID:-//hacksw/handcal//NONSGML v1.0//EN
CALSCALE:GREGORIAN
BEGIN:VEVENT
UID:69e9982899010
DTSTAMP:20260423T035520Z
DESCRIPTION:Now in its 10th season nationally\, the "Songs at the Center" television show\, created and hosted by OWU alum&nbsp\;Eric Gnezda '79\, will tape an episode with guest artists Amythyst Kiah\, Nicole Witt\, and Sarah Darling\, in Jemison Auditorium inside Sanborn Hall\, 23 Elizabeth St.\, Delaware. Admission is free.&nbsp\;
Since its debut\, "Songs at the Center" has been broadcast to more than 400 PBS stations from coast-to-coast.
An award-winning songwriter and Emmy-nominated TV producer\, Gnezda conceived the program based upon his decades of performing in venues across America\, including Nashville's iconic Bluebird Caf&eacute\;.&nbsp\;
For more information\, visit&nbsp\;owu.edu/PerformingArts.
SUMMARY:'Songs at the Center' Taping with Eric Gnezda '79
DTSTART:20241123T000000Z
DTEND:20241123T020000Z
END:VEVENT
END:VCALENDAR
