BEGIN:VCALENDAR
VERSION:2.0
PRODID:-//hacksw/handcal//NONSGML v1.0//EN
CALSCALE:GREGORIAN
BEGIN:VEVENT
UID:69e8f2c77cd35
DTSTAMP:20260422T160943Z
DESCRIPTION:Come learn about other faiths and share your own\, speed dating style! Join members of IF on Wednesday at 6pm in Benes Rooms B and C. Refreshments will be provided!
OWU Sponsoring Organization/Office: Interfaith SLUContact: Grey Kennedy at&nbsp\;interfaith@owu.edu
SUMMARY:Spiritual Speedrun
DTSTART:20231115T230000Z
DTEND:20231116T000000Z
END:VEVENT
END:VCALENDAR
