BEGIN:VCALENDAR
VERSION:2.0
PRODID:-//hacksw/handcal//NONSGML v1.0//EN
CALSCALE:GREGORIAN
BEGIN:VEVENT
UID:69ea7cfc1c638
DTSTAMP:20260423T201140Z
DESCRIPTION:Ohio Wesleyan Terpsicorps 25/26 dance recital\, in Chappelear Drama Center\, 45 Rowland Ave.\, Delaware. Admission is free. Reserve your tickets now at owuperformingarts.ludus.com. For more information\, visit&nbsp\;owu.edu/PerformingArts.
SUMMARY:Spring Dance Concert: Terpsicorps 25/26
DTSTART:20260425T180000Z
DTEND:20260425T200000Z
END:VEVENT
END:VCALENDAR
