BEGIN:VCALENDAR
VERSION:2.0
PRODID:-//hacksw/handcal//NONSGML v1.0//EN
CALSCALE:GREGORIAN
BEGIN:VEVENT
UID:69e86facf04a6
DTSTAMP:20260422T065020Z
DESCRIPTION:For first-gen* students\, staff\, and faculty\, and those in solidarity with us.Come for snacks\, beverages\, and community!Join us for a casual gathering and an opportunity to connect with other first-gen students\, faculty\, and staff before the end of the semester!* First-Gen students/graduates are those whose parents do not have a 4-year college degree. However\, many people can relate to parts of the first-gen experience or want to build cross-class solidarity\, and all are welcome to attend!
OWU Sponsoring Organization/Office: Career Connection\; SOAN DeptContact: Mallorie Watts at&nbsp\;mmwatts@owu.edu
SUMMARY:Spring First-Gen Social
DTSTART:20220329T200000Z
DTEND:20220329T210000Z
END:VEVENT
END:VCALENDAR
