BEGIN:VCALENDAR
VERSION:2.0
PRODID:-//hacksw/handcal//NONSGML v1.0//EN
CALSCALE:GREGORIAN
BEGIN:VEVENT
UID:69ea8a34c6e4b
DTSTAMP:20260423T210804Z
DESCRIPTION:Interested in working on-campus? Come meet the departments hiring students and learn about current and future job opportunities. The job fair will be held on Thursday\, August 22\, and Monday\, August 26 from 11 am &ndash\; 1 pm in the Hamilton - Williams Campus Center Atrium. On-campus employment is not guaranteed for any student. Please visit the&nbsp\;owu.edu/studentemployment to view&nbsp\;Job&nbsp\;Postings and for more information&nbsp\;on&nbsp\;the required new hire paperwork which must be completed prior to the first day of&nbsp\;employment.
OWU Sponsoring Organization/Office: Student EmploymentContact: Catherine Langton at&nbsp\;studentemployment@owu.edu
SUMMARY:Student Employment On-Campus Employment Fair
DTSTART:20240822T150000Z
DTEND:20240822T170000Z
END:VEVENT
END:VCALENDAR
