BEGIN:VCALENDAR
VERSION:2.0
PRODID:-//hacksw/handcal//NONSGML v1.0//EN
CALSCALE:GREGORIAN
BEGIN:VEVENT
UID:69ea227e6ed7e
DTSTAMP:20260423T134534Z
DESCRIPTION:The fall Student Involvement Fair is Thursday\, August 29\, from 6-8pm on The JAYwalk! Visit tables to learn information about how to attend meetings\, join a student organization\, and attend campus events. It is a fantastic way to meet over 80+ student organizations and get connected to campus&mdash\;you won't want to miss this event! Before or after the event\, we encourage you to explore active student organizations: https://owu.campuslabs.com/engage/
OWU Sponsoring Organization/Office: Student Involvement OfficeContact: Dina Daltorio at involveu@owu.edu
&nbsp\;
SUMMARY:Student Involvement Fair 
DTSTART:20240829T220000Z
DTEND:20240830T000000Z
END:VEVENT
END:VCALENDAR
