BEGIN:VCALENDAR
VERSION:2.0
PRODID:-//hacksw/handcal//NONSGML v1.0//EN
CALSCALE:GREGORIAN
BEGIN:VEVENT
UID:69e85b0d82860
DTSTAMP:20260422T052221Z
DESCRIPTION:7 p.m. Apr. 3 &ndash\; Ohio Wesleyan recital featuring students of Karl Pedersen\, in Jemison Auditorium inside Sanborn Hall\, 23 Elizabeth St.\, Delaware. Admission is free. For more information\, visit owu.edu/PerformingArts.
SUMMARY:Student Recital
DTSTART:20220403T230000Z
DTEND:20220404T000000Z
END:VEVENT
END:VCALENDAR
