BEGIN:VCALENDAR
VERSION:2.0
PRODID:-//hacksw/handcal//NONSGML v1.0//EN
CALSCALE:GREGORIAN
BEGIN:VEVENT
UID:69e77dede8e7b
DTSTAMP:20260421T133853Z
DESCRIPTION:Ohio Wesleyan student recital\, in Jemison Auditorium inside Sanborn Hall\, 23 Elizabeth St.\, Delaware. Admission is free. For more information\, visit owu.edu/PerformingArts.
SUMMARY:Student Recital
DTSTART:20240929T230000Z
DTEND:20240930T000000Z
END:VEVENT
END:VCALENDAR
