BEGIN:VCALENDAR
VERSION:2.0
PRODID:-//hacksw/handcal//NONSGML v1.0//EN
CALSCALE:GREGORIAN
BEGIN:VEVENT
UID:69ea0d175b946
DTSTAMP:20260423T121415Z
DESCRIPTION:Ohio Wesleyan student recital\, in Jemison Auditorium inside Sanborn Hall\, 23 Elizabeth St.\, Delaware. Admission is free. For more information\, visit owu.edu/PerformingArts.
SUMMARY:Student Recital
DTSTART:20241204T010000Z
DTEND:20241204T020000Z
END:VEVENT
END:VCALENDAR
