BEGIN:VCALENDAR
VERSION:2.0
PRODID:-//hacksw/handcal//NONSGML v1.0//EN
CALSCALE:GREGORIAN
BEGIN:VEVENT
UID:69eb4f83f2a5a
DTSTAMP:20260424T110955Z
DESCRIPTION:The School for Field Studies (&nbsp\;fieldstudies.org&nbsp\;) offers programs around the world that are of special interest to those majoring in the biological and social sciences. Come and visit with SFS Institutional Liaison\, Mike Rainaldi\, to learn more -- Wednesday the 18th from 11:30AM to 1:00PM in the HWCC Atrium and from 4:00 to 5:00PM in the IOCP Office 311 Slocum Hall.
OWU Sponsoring Organization/Office: International &amp\; Off-Campus Programs (IOCP)Contact: Darrell Albon at&nbsp\;iocp@owu.edu
SUMMARY:Study Abroad Information Sessions
DTSTART:20231018T153000Z
DTEND:20231018T170000Z
END:VEVENT
END:VCALENDAR
