BEGIN:VCALENDAR
VERSION:2.0
PRODID:-//hacksw/handcal//NONSGML v1.0//EN
CALSCALE:GREGORIAN
BEGIN:VEVENT
UID:69ec3c638e218
DTSTAMP:20260425T040035Z
DESCRIPTION:Hello Succulent Enthusiasts\,
Are you ready to get your hands dirty and bring some greenery into your life? We're thrilled to invite you to our Succulent Planting Event! Whether you're a seasoned succulent gardener or a total beginner\, this event is perfect for you.
&nbsp\;Date: October 6 th&nbsp\;Time: 12:00-1:00 PM&nbsp\;Location: SCSC greenhouse
&nbsp\;What to Expect:- A variety of succulent plants to choose from.- Expert guidance on planting and caring for your succulents.- A fun and relaxing atmosphere.- Great company and an opportunity to make new friends.
&nbsp\;What to Bring:- Your creativity and enthusiasm.- Gardening gloves if you have them and want to wear them.
This event is perfect for individuals and friends. Come and discover the joy of succulent gardening\, and leave with a beautiful creation to brighten your space.
Spread the word and invite your fellow succulent lovers! We can't wait to see you there.
For any questions or additional information\, feel free to contact
Claire Heumasse
Secretary:&nbsp\;cnheumasse@owu.edu.
Let's get our hands dirty and grow some succulent magic together!&nbsp\;&nbsp\;#SucculentPlantingEvent #WinS #WomeninScience!
OWU Sponsoring Organization/Office: SelfContact: Claire Heumasse at&nbsp\;cnheumasse@owu.edu
SUMMARY:Succulent Planting Event
DTSTART:20231006T160000Z
DTEND:20231006T170000Z
END:VEVENT
END:VCALENDAR
