BEGIN:VCALENDAR
VERSION:2.0
PRODID:-//hacksw/handcal//NONSGML v1.0//EN
CALSCALE:GREGORIAN
BEGIN:VEVENT
UID:69e997eaa7466
DTSTAMP:20260423T035418Z
DESCRIPTION:
The OWU community is invited to attend a workshop with&nbsp\;Althea Jones\, a multidisciplinary artist practicing in Akron\, Ohio. Jones will present "Superpowers &amp\; Art" from 11:45 a.m. to 1:15 p.m. Wednesday\, Sept. 4\, at the Ross Art Museum. The number of participants is limited and advance registration is requested via this form.
Jones' work focuses on self-actualization and community building. Her current work "Skin Color" is a social practice piece that seeks to encourage self-love\, create community\, and reframe implicit bias.
This workshop is sponsored by Jarvis Stewart Lectureship Endowed Fund.

Source:&nbsp\;OWU Department of Fine Arts

SUMMARY:'Superpowers &amp\; Art' Workshop: Althea Jones
DTSTART:20240904T154500Z
DTEND:20240904T171500Z
END:VEVENT
END:VCALENDAR
