BEGIN:VCALENDAR
VERSION:2.0
PRODID:-//hacksw/handcal//NONSGML v1.0//EN
CALSCALE:GREGORIAN
BEGIN:VEVENT
UID:69ebe3077844d
DTSTAMP:20260424T213919Z
DESCRIPTION:Ohio Wesleyan&rsquo\;s Symphonic Wind Ensemble\, conducted by professor Richard Edwards\, in Gray Chapel inside University Hall\, 61 S. Sandusky St.\, Delaware. Admission is free. For more information\, visit owu.edu/PerformingArts.
SUMMARY:Symphonic Wind Ensemble Concert
DTSTART:20231011T000000Z
DTEND:20231011T020000Z
END:VEVENT
END:VCALENDAR
