BEGIN:VCALENDAR
VERSION:2.0
PRODID:-//hacksw/handcal//NONSGML v1.0//EN
CALSCALE:GREGORIAN
BEGIN:VEVENT
UID:69e5d2b329b57
DTSTAMP:20260420T071603Z
DESCRIPTION:Ohio Wesleyan's Symphonic Wind Ensemble\, conducted by professor Richard Edwards\, in Gray Chapel inside University Hall\, 61 S. Sandusky St.\, Delaware. Admission is free. For more information\, visit owu.edu/PerformingArts.
SUMMARY:Symphonic Wind Ensemble Concert
DTSTART:20240417T000000Z
DTEND:20240417T010000Z
END:VEVENT
END:VCALENDAR
