BEGIN:VCALENDAR
VERSION:2.0
PRODID:-//hacksw/handcal//NONSGML v1.0//EN
CALSCALE:GREGORIAN
BEGIN:VEVENT
UID:69e98ec61cc68
DTSTAMP:20260423T031518Z
DESCRIPTION:3 p.m. Oct. 31 &ndash\; Symphonic Wind Ensemble\, conducted by faculty member Richard Edwards\, in Gray Chapel inside University Hall\, 61 S. Sandusky St.\, Delaware. Admission is free. For more information\, visit www.owu.edu/PerformingArts.
Guests to the university must follow the latest public health recommendations from the Delaware Public Health District and Centers for Disease Control and Prevention. For visitors not fully vaccinated against the coronavirus\, this includes wearing masks at indoor events\, practicing physical distancing\, and washing hands frequently.
All event information is subject to change. For the latest details and additional campus events\, visit www.owu.edu/events or &ldquo\;like&rdquo\; www.facebook.com/OhioWesleyanUniversityNews.
SUMMARY:Symphonic Wind Ensemble Concert
DTSTART:20211031T190000Z
DTEND:20211031T203000Z
END:VEVENT
END:VCALENDAR
