BEGIN:VCALENDAR
VERSION:2.0
PRODID:-//hacksw/handcal//NONSGML v1.0//EN
CALSCALE:GREGORIAN
BEGIN:VEVENT
UID:69ead5ac93ad6
DTSTAMP:20260424T023004Z
DESCRIPTION:Take Back the Night is the earliest worldwide movement to stand against sexual violence\, especially violence against women. Join your OWU community in standing up to sexual and domestic violence on Tuesday\, October 24th for a march across campus\, speakout\, and event debrief at the SAGE house.
6-6:30 : Poste making inside Smith Hall Lobby6:30 : March from Smith to JAYwalk6:45 : Speakout\, Beeghly Library Steps7:30 : Debrief\, Sage House
OWU Sponsoring Organization/Office: The Bishop WayContact: Mindi Klaus at&nbsp\;Thebishopway@owu.edu
&nbsp\;
SUMMARY:Take Back the Night
DTSTART:20231024T220000Z
DTEND:20231025T000000Z
END:VEVENT
END:VCALENDAR
