BEGIN:VCALENDAR
VERSION:2.0
PRODID:-//hacksw/handcal//NONSGML v1.0//EN
CALSCALE:GREGORIAN
BEGIN:VEVENT
UID:69e90aef0027e
DTSTAMP:20260422T175247Z
DESCRIPTION:Navigating the world of taxes can seem daunting\, especially for students stepping into their early adult years. The "Tax Savvy 101" event is designed to demystify this process\, offering attendees a comprehensive insight into tax basics\, filing procedures\, and essential tips. Equip yourself with the knowledge you need to confidently handle your taxes and make informed financial decisions. Time : 6pm -&nbsp\;7pm Event Date : November 14\, 2023 Location : Bradford Milligan Hall Room no#107
OWU Sponsoring Organization/Office: Res LifeContact: Wasif Karim at&nbsp\;mwkarim@owu.edu
SUMMARY:Tax Savvy 101
DTSTART:20231114T230000Z
DTEND:20231115T000000Z
END:VEVENT
END:VCALENDAR
