BEGIN:VCALENDAR
VERSION:2.0
PRODID:-//hacksw/handcal//NONSGML v1.0//EN
CALSCALE:GREGORIAN
BEGIN:VEVENT
UID:69e97173a2f9b
DTSTAMP:20260423T011011Z
DESCRIPTION:Join the History Student Board for a taste of history! There will be a variety of sweet and savory treats with a historical background. Learn about iconic soiree fare and embrace the feel of French aristocracy. Please RSVP at the following link:&nbsp\;https://docs.google.com/forms/d/e/1FAIpQLSel1fRrOjLWBW5NVXIr9McmXlv14LCtql7BUm_x5618MgNMZw/viewform
OWU Sponsoring Organization/Office: History Student BoardContact: Lilly Colbeck at&nbsp\;lccolbeck@owu.edu
SUMMARY:Tea Through Time: A Historical Tea Party
DTSTART:20241120T230000Z
DTEND:20241121T010000Z
END:VEVENT
END:VCALENDAR
