BEGIN:VCALENDAR
VERSION:2.0
PRODID:-//hacksw/handcal//NONSGML v1.0//EN
CALSCALE:GREGORIAN
BEGIN:VEVENT
UID:69e6de03a9f8a
DTSTAMP:20260421T021635Z
DESCRIPTION:Saturday-Sunday\, November 18-26\, 2023\, is Thanksgiving Break. View the full academic calendar.&nbsp\;
SUMMARY:Thanksgiving Break
DTSTART:20231118
DTEND:20231118
END:VEVENT
END:VCALENDAR
