BEGIN:VCALENDAR
VERSION:2.0
PRODID:-//hacksw/handcal//NONSGML v1.0//EN
CALSCALE:GREGORIAN
BEGIN:VEVENT
UID:69e9abfac3e1d
DTSTAMP:20260423T051954Z
DESCRIPTION:Thanksgiving holiday break for students. Ohio Wesleyan University offices closed from November 27 to December 1.
&nbsp\;
SUMMARY:Thanksgiving Break
DTSTART:20241123
DTEND:20241123
END:VEVENT
END:VCALENDAR
