BEGIN:VCALENDAR
VERSION:2.0
PRODID:-//hacksw/handcal//NONSGML v1.0//EN
CALSCALE:GREGORIAN
BEGIN:VEVENT
UID:69ea36e48ce65
DTSTAMP:20260423T151236Z
DESCRIPTION:Come de-stress at the Ross with our furry friends Daisy and Tesla! Therapy dogs will be here from 6-7pm for cuddles and kisses to help you prep for exam week.
OWU Sponsoring Organization/Office: Richard M. Ross Art MuseumContact: Ruth Szukala at&nbsp\;ramuseum@owu.edu
SUMMARY:Therapy Dog 
DTSTART:20241205T230000Z
DTEND:20241206T000000Z
END:VEVENT
END:VCALENDAR
