BEGIN:VCALENDAR
VERSION:2.0
PRODID:-//hacksw/handcal//NONSGML v1.0//EN
CALSCALE:GREGORIAN
BEGIN:VEVENT
UID:69eab030d7d65
DTSTAMP:20260423T235008Z
DESCRIPTION:On Monday\, August 19\, 2024\, from noon - 1:30 in Merrick Room 301\, Dr. Ashley Kennard\, Assistant Professor of Journalism and Communication\, will facilitate "Thriving Through Change and Conflict: Strategies for Success."&nbsp\; In this 90-minute interactive seminar\, we will learn about ways to manage conflict and change within your personal and professional life.&nbsp\; We will also dive into conflict styles as well as ways to best implement and respond to major changes using a hands-on approach.
RSVP via the above link by Wednesday\, August 14\, 2024
OWU Sponsoring Organization/Office: Human ResourcesContact: Kari Lindecamp at&nbsp\;kjlindecamp@owu.edu
SUMMARY:Thriving Through Change and Conflict: Strategies for Success Seminar
DTSTART:20240819T160000Z
DTEND:20240819T173000Z
END:VEVENT
END:VCALENDAR
