BEGIN:VCALENDAR
VERSION:2.0
PRODID:-//hacksw/handcal//NONSGML v1.0//EN
CALSCALE:GREGORIAN
BEGIN:VEVENT
UID:69ece78d31f22
DTSTAMP:20260425T161053Z
DESCRIPTION:Come join SLAM at our first event of the semester with some jewelry making! Craft some friendship bracelets\, necklaces\, or even an anklet! This event will take place in the Stuy Fishbowl on Jan 30th from 6-8p.m. Materials will be provided. See you there!
OWU Sponsoring Organization/Office: SLAM (Student Led Arts Movement)Contact: Fiona Minton at&nbsp\;fbminton@owu.edu
SUMMARY:To Bead or Not to Bead: A SLAM Event
DTSTART:20250130T230000Z
DTEND:20250131T010000Z
END:VEVENT
END:VCALENDAR
