BEGIN:VCALENDAR
VERSION:2.0
PRODID:-//hacksw/handcal//NONSGML v1.0//EN
CALSCALE:GREGORIAN
BEGIN:VEVENT
UID:69ea627632613
DTSTAMP:20260423T181830Z
DESCRIPTION:Join IFC and Panhel in Trick or Treating with the Bishops on the Jay! Interact with the community\, dress in your best costumes\, and join the fall festivities!!! This event is open to all!&nbsp\;
OWU Sponsoring Organization/Office: IFC/PanhelContact: Emilee Asbury at&nbsp\;emasbury@owu.edu
&nbsp\;
SUMMARY:Trick or Treat with the Bishops
DTSTART:20231030T220000Z
DTEND:20231030T233000Z
END:VEVENT
END:VCALENDAR
